BEGIN:VCALENDAR
VERSION:2.0
PRODID:-//wp-events-plugin.com//7.2.3.1//EN
TZID:Europe/Berlin
X-WR-TIMEZONE:Europe/Berlin
BEGIN:VEVENT
UID:24@empathie-agentur.de
DTSTART;TZID=Europe/Berlin:20250311T193000
DTEND;TZID=Europe/Berlin:20250311T203000
DTSTAMP:20250311T110734Z
URL:https://empathie-agentur.de/termine/aufbau-eines-rohstoff-portfolios-f
 uer-einsteiger/
SUMMARY:Aufbau eines Rohstoff-Portfolios für Einsteiger
DESCRIPTION:präsentiert am 11.03.:\n"Aufbau eines Rohstoff-Portfolios für
  Einsteiger"\nInhalt:\nSeltene Erden und Edelmetalle bietet dir den ideal
 en Schutz gegen Inflation. Du steigst mit kleinen Beträgen in einen vom B
 ankensystem unabhängigen Investmentmarkt mit immensen Entwicklungschancen
  ein. Diese Rohstoffe sind bereits jetzt schon die am besten performende
  Assetklasse für Privatanleger und es ist von einer über viele Jahre a
 nhaltenden Preissteigerung auszugehen.\n\nReferent: \nAnnelie &amp\; Fred
 y Groth\, CEO &amp\; Selberdenker der empathie agentur\n\nAnmeldung:\nEinf
 ach &gt\;&gt\;&gt\; hier online anmelden und kostenfrei teilnehmen!\nDU be
 kommst von uns unverzüglich per e-Mail DEINE Anmeldebestätigung und kurz
  vor dem Termin DEINEN persönlichen Zugangscode zum Online-Meeting.\n\nZe
 iten:\n&gt\;Das Onlinemeeting beginnt um 19:30 Uhr und endet um 20:30 Uhr\
 n&gt\;DU kannst den Meetingraum ab 19:15 Uhr betreten\, Einlassende ist 19
 :35 Uhr - danach ist keine weitere Einwahl mehr möglich.\n\nZurück zur 
 Übersicht
CATEGORIES:my empathie
END:VEVENT
BEGIN:VTIMEZONE
TZID:Europe/Berlin
X-LIC-LOCATION:Europe/Berlin
BEGIN:STANDARD
DTSTART:20241027T020000
TZOFFSETFROM:+0200
TZOFFSETTO:+0100
TZNAME:CET
END:STANDARD
END:VTIMEZONE
END:VCALENDAR