BEGIN:VCALENDAR
VERSION:2.0
PRODID:-//wp-events-plugin.com//7.2.3.1//EN
TZID:Europe/Berlin
X-WR-TIMEZONE:Europe/Berlin
BEGIN:VEVENT
UID:6@empathie-agentur.de
DTSTART;TZID=Europe/Berlin:20240917T193000
DTEND;TZID=Europe/Berlin:20240917T203000
DTSTAMP:20240402T085255Z
URL:https://empathie-agentur.de/termine/my-empathie-am-17-09-2024/
SUMMARY:Kryptowährungen und Blockchaintechnologie – So einfach gehst DU 
 raus aus der Kontrolle der digitalen EZB-Währungen!
DESCRIPTION:präsentiert am 17.09.:\n"Kryptowährungen und Blockchaintechno
 logie – So einfach gehst DU raus aus der Kontrolle der digitalen EZB-Wä
 hrungen!"\nInhalt:\nMit dezentralen Kryptowährungen wirst DU DEIN Vermög
 en und Einkommen vor unerwünschter Kontrolle schützen. Clever ausgewähl
 t in Kombination mit nachhaltigen Investitionen in reale Projekte ergibt d
 ies nicht nur finanzielle Sicherheit\, sondern auch eine gute Rendite - un
 d es ist viel einfacher als DU denkst.\n\nReferent: \nHelmut Lipp\, Krypto
 loge und Finanzfachmann aus Margetshöchheim\n\nAnmeldung:\nEinfach &gt\;
 &gt\;&gt\; hier online anmelden und kostenfrei teilnehmen!\n\nDU bekommst
  von uns unverzüglich per e-Mail DEINE Anmeldebestätigung und kurz dem T
 ermin deinen persönlichen Zugangscode zum Online-Meeting.\n\nZeiten:\n&gt
 \;Das Onlinemeeting beginnt um 19:30 Uhr und endet um 20:30 Uhr\n&gt\;DU k
 annst den Meetingraum ab 19:15 Uhr betreten\, Einlassende ist 19:35 Uhr 
 – danach ist keine weitere Einwahl mehr möglich.\n\nZurück zur Übersi
 cht
CATEGORIES:my empathie
END:VEVENT
BEGIN:VTIMEZONE
TZID:Europe/Berlin
X-LIC-LOCATION:Europe/Berlin
BEGIN:DAYLIGHT
DTSTART:20240331T030000
TZOFFSETFROM:+0100
TZOFFSETTO:+0200
TZNAME:CEST
END:DAYLIGHT
END:VTIMEZONE
END:VCALENDAR